BEGIN:VCALENDAR
VERSION:2.0
PRODID:-//pretix//KVCV_Ticket_Service//
BEGIN:VTIMEZONE
TZID:Europe/Brussels
BEGIN:STANDARD
DTSTART:20001029T040000
RRULE:FREQ=YEARLY;BYDAY=-1SU;BYMONTH=10
TZNAME:CET
TZOFFSETFROM:+0200
TZOFFSETTO:+0100
END:STANDARD
BEGIN:DAYLIGHT
DTSTART:20000326T030000
RRULE:FREQ=YEARLY;BYDAY=-1SU;BYMONTH=3
TZNAME:CEST
TZOFFSETFROM:+0100
TZOFFSETTO:+0200
END:DAYLIGHT
END:VTIMEZONE
BEGIN:VEVENT
UID:pretix-kvcv-mycotoxinen26-2-0@tickets.kvcv.be
DTSTART;TZID=Europe/Brussels:20260520T191500
DTEND;TZID=Europe/Brussels:20260520T220000
DESCRIPTION:Tickets: https://tickets.kvcv.be/kvcv/mycotoxinen26-2/\nOrganis
 ator: KVCV
DTSTAMP:20260420T053727Z
LOCATION:Bibliotheek Utopia\, Utopia 1\, 9300 Aalst\, Zaal ‘De Geuzen’
SUMMARY:Toxische waarheden: mycotoxinen in ons voedsel
END:VEVENT
END:VCALENDAR
