BEGIN:VCALENDAR
VERSION:2.0
PRODID:-//pretix//KVCV_Ticket_Service//
BEGIN:VTIMEZONE
TZID:Europe/Brussels
BEGIN:STANDARD
DTSTART:20001029T040000
RRULE:FREQ=YEARLY;BYDAY=-1SU;BYMONTH=10
TZNAME:CET
TZOFFSETFROM:+0200
TZOFFSETTO:+0100
END:STANDARD
BEGIN:DAYLIGHT
DTSTART:20000326T030000
RRULE:FREQ=YEARLY;BYDAY=-1SU;BYMONTH=3
TZNAME:CEST
TZOFFSETFROM:+0100
TZOFFSETTO:+0200
END:DAYLIGHT
END:VTIMEZONE
BEGIN:VEVENT
UID:pretix-kvcv-galapagos24-0@tickets.kvcv.be
DTSTART;TZID=Europe/Brussels:20240321T125000
DTEND;TZID=Europe/Brussels:20240321T161500
DESCRIPTION:Tickets: https://tickets.kvcv.be/kvcv/galapagos24/\nOrganizer: 
 KVCV
DTSTAMP:20260423T120846Z
LOCATION:Galápagos\, Generaal De Wittelaan L11\, A3\, 2800 Mechelen
SUMMARY:Company visit Galápagos\, Mechelen
END:VEVENT
END:VCALENDAR
