BEGIN:VCALENDAR
VERSION:2.0
PRODID:-//pretix//KVCV_Ticket_Service//
BEGIN:VTIMEZONE
TZID:Europe/Brussels
BEGIN:STANDARD
DTSTART:20001029T040000
RRULE:FREQ=YEARLY;BYDAY=-1SU;BYMONTH=10
TZNAME:CET
TZOFFSETFROM:+0200
TZOFFSETTO:+0100
END:STANDARD
BEGIN:DAYLIGHT
DTSTART:20000326T030000
RRULE:FREQ=YEARLY;BYDAY=-1SU;BYMONTH=3
TZNAME:CEST
TZOFFSETFROM:+0100
TZOFFSETTO:+0200
END:DAYLIGHT
END:VTIMEZONE
BEGIN:VEVENT
UID:pretix-kvcv-STEM23-0@tickets.kvcv.be
DTSTART;TZID=Europe/Brussels:20230302T190000
DTEND;TZID=Europe/Brussels:20230302T203000
DESCRIPTION:Tickets: https://tickets.kvcv.be/kvcv/STEM23/\nOrganisator: KVC
 V
DTSTAMP:20260421T071400Z
LOCATION:Thomas More\, Auditorium D006\, Kleinhoefstraat 4\, 2440 Geel
SUMMARY:Lezing Onze STEM\, hun toekomst
END:VEVENT
END:VCALENDAR
